BEGIN:VCALENDAR
VERSION:2.0
PRODID:-//wp-events-plugin.com//7.2.3.1//EN
BEGIN:VEVENT
UID:31@dew-point.org
DTSTART;TZID=Asia/Hong_Kong:20240229T090000
DTEND;TZID=Asia/Hong_Kong:20240229T110000
DTSTAMP:20240124T080851Z
URL:https://www.dew-point.org/events/gcc-manage-priorities/
SUMMARY:How to Manage Priorities and Get Things Done
DESCRIPTION:Manage Priorities and Get Things Done. Trying to get things don
 e is challenging! On top of that\, the lines between work and home are eve
 r more blurred. In this interactive micro-training\, we will look at how w
 e can regain our focus\, separate what's really important from what can wa
 it\, and how to find balance in this new world.
CATEGORIES:Middle Management,Productivity Improvement,Professional
 Staff,Senior Management
LOCATION:German Chamber of Commerce\, GermanHub™\, 19/F\, COFCO Tower\, 2
 62 Gloucester Road\, Causeway Bay\, Hong Kong
X-APPLE-STRUCTURED-LOCATION;VALUE=URI;X-ADDRESS=GermanHub™\, 19/F\, COFCO
  Tower\, 262 Gloucester Road\, Causeway Bay\, Hong Kong;X-APPLE-RADIUS=100
 ;X-TITLE=German Chamber of Commerce:geo:0,0
END:VEVENT
BEGIN:VTIMEZONE
TZID:Asia/Hong_Kong
X-LIC-LOCATION:Asia/Hong_Kong
BEGIN:STANDARD
DTSTART:20230301T090000
TZOFFSETFROM:+0800
TZOFFSETTO:+0800
TZNAME:HKT
END:STANDARD
END:VTIMEZONE
END:VCALENDAR